BEGIN:VCALENDAR
VERSION:2.0
PRODID:-//United Innovations - ECPv6.15.20//NONSGML v1.0//EN
CALSCALE:GREGORIAN
METHOD:PUBLISH
X-WR-CALNAME:United Innovations
X-ORIGINAL-URL:https://www.techl.eu
X-WR-CALDESC:Events for United Innovations
REFRESH-INTERVAL;VALUE=DURATION:PT1H
X-Robots-Tag:noindex
X-PUBLISHED-TTL:PT1H
BEGIN:VTIMEZONE
TZID:Europe/Berlin
BEGIN:DAYLIGHT
TZOFFSETFROM:+0100
TZOFFSETTO:+0200
TZNAME:CEST
DTSTART:20250330T010000
END:DAYLIGHT
BEGIN:STANDARD
TZOFFSETFROM:+0200
TZOFFSETTO:+0100
TZNAME:CET
DTSTART:20251026T010000
END:STANDARD
BEGIN:DAYLIGHT
TZOFFSETFROM:+0100
TZOFFSETTO:+0200
TZNAME:CEST
DTSTART:20260329T010000
END:DAYLIGHT
BEGIN:STANDARD
TZOFFSETFROM:+0200
TZOFFSETTO:+0100
TZNAME:CET
DTSTART:20261025T010000
END:STANDARD
BEGIN:DAYLIGHT
TZOFFSETFROM:+0100
TZOFFSETTO:+0200
TZNAME:CEST
DTSTART:20270328T010000
END:DAYLIGHT
BEGIN:STANDARD
TZOFFSETFROM:+0200
TZOFFSETTO:+0100
TZNAME:CET
DTSTART:20271031T010000
END:STANDARD
END:VTIMEZONE
BEGIN:VEVENT
DTSTART;TZID=Europe/Berlin:20260421T150000
DTEND;TZID=Europe/Berlin:20260421T163000
DTSTAMP:20260425T130716
CREATED:20260226T152654Z
LAST-MODIFIED:20260226T152654Z
UID:43136-1776783600-1776789000@www.techl.eu
SUMMARY:Enterprise Data: Diskussion der Datengrundlage für die neue Agent-Welt
DESCRIPTION:Agenda\n					\n					\n				\n								\n				\n				\n				\n					\n	Enterprise Data: Diskussion der Datengrundlage für die neue Agent-Welt				\n				\n				\n				\n					\n	\n	Date & Time:	\n			21.04.2026\n\n	\n\n	  |  \n\n\n15:00\n\n		\n\n\n\n	\n	  -  \n\n16:30\n\n\n\n	\n				\n				\n				\n				\n									Online 								\n				\n					\n		\n					\n		\n					\n		\n					\n		\n				\n						\n					\n			\n						\n				\n					\n	Enterprise Data: Diskussion der Datengrundlage für die neue Agent-Welt				\n				\n				\n				\n					\n		\n			21.04.2026\n\n	\n\n	  |  \n\n\n15:00\n\n		\n\n\n\n	\n	  -  \n\n16:30\n\n\n\n	\n				\n				\n				\n						\n					\n			\n						\n				\n									\n					\n						\n									Anmeldung\n					\n					\n				\n								\n				\n					\n		\n				\n			\n						\n				\n									\n					\n						\n									Kontakt\n					\n					\n				\n								\n				\n					\n		\n				\n			\n						\n				\n					\n	\n		\n\n	\n	Add to calendar	\n		\n	\n\n		\n			\n									\n	Google Calendar\n\n									\n	iCalendar\n\n									\n	Outlook 365\n\n									\n	Outlook Live\n\n							\n		\n\n		\n	\n\n				\n				\n					\n		\n					\n		\n					\n		\n					\n		\n				\n						\n					\n			\n						\n				\n					Agenda				\n				\n				\n				\n							\n			\n						\n		\n						\n				\n				\n						\n					\n			\n						\n				\n					15:30 Uhr I Begrüßung und Zielsetzung 				\n				\n				\n				\n					Julia StumpenhagenSolution Architekt Digitalisierung\, SVA 				\n				\n				\n				\n					Dr. Gerd Große Vorstandsvorsitzender GFFT e.V.\, Head of United Innovations 				\n				\n					\n		\n					\n		\n				\n				\n							\n			\n						\n		\n						\n				\n				\n						\n					\n			\n						\n				\n					15:40 Uhr I Präsentation der Agent-Erfahrungen bei Cargill				\n				\n					\n		\n					\n		\n				\n						\n					\n			\n						\n				\n					Rene GreinerSr. Director Data AI and Digital | Cargill Ocean Transportation 				\n				\n					\n		\n					\n		\n				\n				\n							\n			\n						\n		\n						\n				\n				\n				\n					16:30 Uhr I  Ableitung von notwendigen Maßnahmen				\n				\n				\n				\n							\n			\n						\n		\n						\n				\n				\n				\n					16:50 Uhr I  Ausblick auf den AI & Software Summit bei der Nord/LB\n				\n				\n				\n				\n							\n			\n						\n		\n						\n				\n				\n				\n					\n	\n		\n\n				Insights: Anlagensicherheit	\n\n\n		\n	\n		Insights: Themen- und Lösungslandkarte – Dos & Don’ts beim Testen der DORA-Regulatorik			\n\n	\n\n				\n				\n					\n		\n					\n		\n				\n							\n							\n					\n			\n						\n				\n					\n	Enterprise Data: Diskussion der Datengrundlage für die neue Agent-Welt				\n				\n				\n						\n					\n			\n						\n				\n							\n							\n					\n						Linkedin\n											\n				\n							\n					\n						Youtube
URL:https://www.techl.eu/event/enterprise-data-diskussion-der-datengrundlage-fuer-die-neue-agent-welt/
END:VEVENT
END:VCALENDAR