BEGIN:VCALENDAR
VERSION:2.0
PRODID:-//Dev-Techl - ECPv6.15.20//NONSGML v1.0//EN
CALSCALE:GREGORIAN
METHOD:PUBLISH
X-WR-CALNAME:Dev-Techl
X-ORIGINAL-URL:https://www.techl.eu
X-WR-CALDESC:Events for Dev-Techl
REFRESH-INTERVAL;VALUE=DURATION:PT1H
X-Robots-Tag:noindex
X-PUBLISHED-TTL:PT1H
BEGIN:VTIMEZONE
TZID:Europe/Berlin
BEGIN:DAYLIGHT
TZOFFSETFROM:+0100
TZOFFSETTO:+0200
TZNAME:CEST
DTSTART:20240331T010000
END:DAYLIGHT
BEGIN:STANDARD
TZOFFSETFROM:+0200
TZOFFSETTO:+0100
TZNAME:CET
DTSTART:20241027T010000
END:STANDARD
BEGIN:DAYLIGHT
TZOFFSETFROM:+0100
TZOFFSETTO:+0200
TZNAME:CEST
DTSTART:20250330T010000
END:DAYLIGHT
BEGIN:STANDARD
TZOFFSETFROM:+0200
TZOFFSETTO:+0100
TZNAME:CET
DTSTART:20251026T010000
END:STANDARD
BEGIN:DAYLIGHT
TZOFFSETFROM:+0100
TZOFFSETTO:+0200
TZNAME:CEST
DTSTART:20260329T010000
END:DAYLIGHT
BEGIN:STANDARD
TZOFFSETFROM:+0200
TZOFFSETTO:+0100
TZNAME:CET
DTSTART:20261025T010000
END:STANDARD
END:VTIMEZONE
BEGIN:VEVENT
DTSTART;TZID=Europe/Berlin:20250403T153000
DTEND;TZID=Europe/Berlin:20250403T170000
DTSTAMP:20260423T204044
CREATED:20250204T094808Z
LAST-MODIFIED:20250204T094808Z
UID:43101-1743694200-1743699600@www.techl.eu
SUMMARY:Insights: Cloud Security
DESCRIPTION:Agenda\n					\n					\n				\n								\n				\n				\n				\n					\n	Insights: Cloud Security				\n				\n				\n				\n					\n	\n	Date & Time:	\n			03.04.2025\n\n	\n\n	  |  \n\n\n15:30\n\n		\n\n\n\n	\n	  -  \n\n17:00\n\n\n\n	\n				\n				\n				\n				\n									Online-Session 								\n				\n					\n		\n					\n		\n					\n		\n					\n		\n		\n					\n					\n				\n		\n					\n				\n				\n							\n						\n				\n					\n				\n				\n						\n					\n			\n							\n		\n					\n		\n				\n						\n					\n			\n						\n						\n					\n			\n						\n				\n									\n					\n						\n									Anmeldung\n					\n					\n				\n								\n				\n					\n		\n				\n			\n						\n				\n									\n					\n						\n									Kontakt\n					\n					\n				\n								\n				\n					\n		\n				\n			\n						\n				\n					\n	\n		\n\n	\n	Add to calendar	\n		\n	\n\n		\n			\n									\n	Google Calendar\n\n									\n	iCalendar\n\n									\n	Outlook 365\n\n									\n	Outlook Live\n\n							\n		\n\n		\n	\n\n				\n				\n					\n		\n					\n		\n					\n		\n					\n		\n				\n						\n					\n			\n						\n				\n					Agenda				\n				\n				\n				\n							\n			\n						\n		\n						\n				\n				\n						\n					\n			\n						\n				\n					15.30 – 15.40 Uhr I Begrüßung und Vorstellung der Teilnehmer:innen				\n				\n				\n				\n					Dr. Gerd GroßeVorstandsvorsitzender GFFT e.V.\, Head of United Innovations 				\n				\n					\n		\n					\n		\n				\n						\n					\n			\n						\n				\n							\n			\n						\n		\n						\n				\n					\n		\n					\n		\n				\n						\n					\n			\n						\n				\n					15.40 – 15.55 Uhr I "Security Testing in der Cloud"				\n				\n					\n		\n					\n		\n				\n						\n					\n			\n						\n				\n					Vincent Reitemeier Information Security Consultant\, PPI AG  				\n				\n				\n				\n							\n			\n						\n		\n						\n				\n				\n				\n					15.55 – 16.10 Uhr I Vortrag				\n				\n					\n		\n					\n		\n				\n						\n					\n			\n						\n				\n					Erik de BuegerSolution Engineer\, Sumo Logic\, Inc. 				\n				\n				\n				\n							\n			\n						\n		\n						\n				\n					\n		\n					\n		\n				\n						\n					\n			\n						\n				\n					16.10 – 17.00 Uhr I  Gemeinsame Diskussion u.a. mit				\n				\n					\n		\n					\n		\n				\n						\n					\n			\n							\n		\n					\n		\n				\n						\n					\n			\n						\n						\n					\n			\n						\n				\n					Mats BeckerHead of Security Architecture\, B. Braun Group\n 				\n				\n				\n				\n					Martin BordtDirector Information Technology\, Schweizer Electronic \n 				\n				\n				\n				\n					Christopher RupprichtChief Information Security Officer\, SCHUFA Holding  				\n				\n				\n				\n					Sascha M. ZaczykManager Informationssicherheit\, \n \n  Normal\n  0\n  \n  \n  21\n  \n  \n  false\n  false\n  false\n  \n  DE\n  X-NONE\n  X-NONE\n  \n   \n   \n   \n   \n   \n   \n   \n   \n   \n  \n  MicrosoftInternetExplorer4\n  \n   \n   \n   \n   \n   \n   \n   \n   \n   \n   \n   \n  \n\n \n  \n  \n  \n  \n  \n  \n  \n  \n  \n  \n  \n  \n  \n  \n  \n  \n  \n  \n  \n  \n  \n  \n  \n  \n  \n  \n  \n  \n  \n  \n  \n  \n  \n  \n  \n  \n  \n  \n  \n  \n  \n  \n  \n  \n  \n  \n  \n  \n  \n  \n  \n  \n  \n  \n  \n  \n  \n  \n  \n  \n  \n  \n  \n  \n  \n  \n  \n  \n  \n  \n  \n  \n  \n  \n  \n  \n  \n  \n  \n  \n  \n  \n  \n  \n  \n  \n  \n  \n  \n  \n  \n  \n  \n  \n  \n  \n  \n  \n  \n  \n  \n  \n  \n  \n  \n  \n  \n  \n  \n  \n  \n  \n  \n  \n  \n  \n  \n  \n  \n  \n  \n  \n  \n  \n  \n  \n  \n  \n  \n  \n  \n  \n  \n  \n  \n  \n  \n  \n  \n  \n  \n  \n  \n  \n  \n  \n  \n  \n  \n  \n  \n  \n  \n  \n  \n  \n  \n  \n  \n  \n  \n  \n  \n  \n  \n  \n  \n  \n  \n  \n  \n  \n  \n  \n  \n  \n  \n  \n  \n  \n  \n  \n  \n  \n  \n  \n  \n  \n  \n  \n  \n  \n  \n  \n  \n  \n  \n  \n  \n  \n  \n  \n  \n  \n  \n  \n  \n  \n  \n  \n  \n  \n  \n  \n  \n  \n  \n  \n  \n  \n  \n  \n  \n  \n  \n  \n  \n  \n  \n  \n  \n  \n  \n  \n  \n  \n  \n  \n  \n  \n  \n  \n  \n  \n  \n  \n  \n  \n  \n  \n  \n  \n  \n  \n  \n  \n  \n  \n  \n  \n  \n  \n  \n  \n  \n  \n  \n  \n  \n  \n  \n  \n  \n  \n  \n  \n  \n  \n  \n  \n  \n  \n  \n  \n  \n  \n  \n  \n  \n  \n  \n  \n  \n  \n  \n  \n  \n  \n  \n  \n  \n  \n  \n  \n  \n  \n  \n  \n  \n  \n  \n  \n  \n  \n  \n  \n  \n  \n  \n  \n  \n  \n  \n  \n  \n  \n  \n  \n  \n  \n  \n  \n  \n  \n  \n  \n  \n  \n  \n  \n  \n  \n  \n  \n  \n  \n  \n  \n  \n  \n  \n  \n  \n  \n  \n  \n  \n  \n  \n  \n  \n  \n  \n  \n  \n  \n  \n  \n  \n  \n  \n  \n  \n  \n  \n  \n \n\n\n /* Style Definitions */\n table.MsoNormalTable\n	{mso-style-name:"Normale Tabelle";\n	mso-tstyle-rowband-size:0;\n	mso-tstyle-colband-size:0;\n	mso-style-noshow:yes;\n	mso-style-priority:99;\n	mso-style-parent:"";\n	mso-padding-alt:0cm 5.4pt 0cm 5.4pt;\n	mso-para-margin:0cm;\n	mso-pagination:widow-orphan;\n	font-size:10.0pt;\n	font-family:"Times New Roman"\,serif;}\n\nEnBW Cyber Security 				\n				\n					\n		\n				\n			\n						\n				\n					Jens SeestService Delivery TAD\, Novartis Pharma  				\n				\n				\n				\n					Axel ZieglerAbteilungsdirektor IT Service Transition\, KfW Bankengruppe 				\n				\n				\n				\n					Abdullah ShahenCloud Security Architect\, Mercedes-Benz Tech Motion 				\n				\n				\n				\n					Yuriy RogalskiCloud Consultant & Cloud Security Architect\, Deutsche WertpapierService Bank  \n 				\n				\n					\n		\n					\n		\n					\n		\n					\n		\n				\n				\n							\n			\n						\n		\n						\n				\n				\n				\n					\n	\n		\n\n				Symposium zur Zukunft der Logistik 2024/2025	\n\n\n		\n	\n		Production Insights: Austausch und Impulse für die Zukunft			\n\n	\n\n				\n				\n					\n		\n					\n		\n				\n							\n							\n					\n			\n						\n				\n					\n	Insights: Cloud Security				\n				\n				\n						\n					\n			\n						\n				\n									\n					\n						\n									Anmeldung\n					\n					\n				\n								\n				\n				\n				\n							\n							\n					\n						Linkedin\n											\n				\n							\n					\n						Youtube
URL:https://www.techl.eu/event/insights-cloud-security/
CATEGORIES:Cybersecurity
END:VEVENT
END:VCALENDAR