BEGIN:VCALENDAR
VERSION:2.0
PRODID:-//Dev-Techl - ECPv6.15.20//NONSGML v1.0//EN
CALSCALE:GREGORIAN
METHOD:PUBLISH
X-WR-CALNAME:Dev-Techl
X-ORIGINAL-URL:https://www.techl.eu
X-WR-CALDESC:Events for Dev-Techl
REFRESH-INTERVAL;VALUE=DURATION:PT1H
X-Robots-Tag:noindex
X-PUBLISHED-TTL:PT1H
BEGIN:VTIMEZONE
TZID:Europe/Berlin
BEGIN:DAYLIGHT
TZOFFSETFROM:+0100
TZOFFSETTO:+0200
TZNAME:CEST
DTSTART:20240331T010000
END:DAYLIGHT
BEGIN:STANDARD
TZOFFSETFROM:+0200
TZOFFSETTO:+0100
TZNAME:CET
DTSTART:20241027T010000
END:STANDARD
BEGIN:DAYLIGHT
TZOFFSETFROM:+0100
TZOFFSETTO:+0200
TZNAME:CEST
DTSTART:20250330T010000
END:DAYLIGHT
BEGIN:STANDARD
TZOFFSETFROM:+0200
TZOFFSETTO:+0100
TZNAME:CET
DTSTART:20251026T010000
END:STANDARD
BEGIN:DAYLIGHT
TZOFFSETFROM:+0100
TZOFFSETTO:+0200
TZNAME:CEST
DTSTART:20260329T010000
END:DAYLIGHT
BEGIN:STANDARD
TZOFFSETFROM:+0200
TZOFFSETTO:+0100
TZNAME:CET
DTSTART:20261025T010000
END:STANDARD
END:VTIMEZONE
BEGIN:VEVENT
DTSTART;TZID=Europe/Berlin:20250930T153000
DTEND;TZID=Europe/Berlin:20250930T170000
DTSTAMP:20260423T204116
CREATED:20250703T065049Z
LAST-MODIFIED:20250703T065049Z
UID:43127-1759246200-1759251600@www.techl.eu
SUMMARY:Insights: Risk Storming
DESCRIPTION:Agenda\n					\n					\n				\n								\n				\n				\n				\n					\n	Insights: Risk Storming				\n				\n				\n				\n					\n	\n	Date & Time:	\n			30.09.2025\n\n	\n\n	  |  \n\n\n15:30\n\n		\n\n\n\n	\n	  -  \n\n17:00\n\n\n\n	\n				\n				\n				\n				\n									Online-Session 								\n				\n					\n		\n					\n		\n					\n		\n					\n		\n				\n						\n					\n			\n						\n				\n									Especially agile teams often have open questions regarding quality. What do the product risks even look like? How can I improve my risk mitigation strategy? Who is actually responsible for quality? And how do the individual roles within development teams share a common understanding of implicit risks?The value of good risk analysis has rarely been more critical than now — especially with AI products flooding the market more than ever. Risk Storming is an interactive and proven strategy format that – under the guidance of a skilled moderator – helps your team not only identify high-value product risks\, but also develop a plan to deal with them. Risk Storming can be used for a wide range of use cases\, from launching new products to generating fresh testing ideas for existing ones.   								\n				\n				\n				\n					\n	Insights: Risk Storming				\n				\n				\n				\n									Online-Session\, Datum und Uhrzeit: 								\n				\n				\n				\n					\n		\n			30.09.2025\n\n	\n\n	  |  \n\n\n15:30\n\n		\n\n\n\n	\n	  -  \n\n17:00\n\n\n\n	\n				\n				\n				\n						\n					\n			\n						\n				\n									\n					\n						\n									Anmeldung\n					\n					\n				\n								\n				\n					\n		\n				\n			\n						\n				\n									\n					\n						\n									Kontakt\n					\n					\n				\n								\n				\n					\n		\n				\n			\n						\n				\n					\n	\n		\n\n	\n	Add to calendar	\n		\n	\n\n		\n			\n									\n	Google Calendar\n\n									\n	iCalendar\n\n									\n	Outlook 365\n\n									\n	Outlook Live\n\n							\n		\n\n		\n	\n\n				\n				\n					\n		\n					\n		\n					\n		\n					\n		\n				\n						\n					\n			\n						\n				\n					Agenda				\n				\n				\n				\n							\n			\n						\n		\n						\n				\n				\n						\n					\n			\n						\n				\n					15.30 Uhr I Begrüßung und Vorstellung der Teilnehmer:innen				\n				\n				\n				\n					Dr. Gerd GroßeVorstandsvorsitzender GFFT e.V.\, Head of United Innovations 				\n				\n					\n		\n					\n		\n				\n				\n							\n			\n						\n		\n						\n				\n				\n						\n					\n			\n						\n				\n					15.40 Uhr I Risk Storming				\n				\n					\n		\n					\n		\n				\n						\n					\n			\n						\n				\n					Bastian KnerrTeamlead Testing\, Qualityminds 				\n				\n					\n		\n					\n		\n				\n				\n					Beren Van DaeleTest Coordinator\, Isle of IT 				\n				\n				\n				\n							\n			\n						\n		\n						\n				\n				\n				\n					16.10 – 16.40 Uhr I  Praxisbeispiel: Anpassung von Risk Storming an eigene Gegebenheiten				\n				\n				\n				\n					Philipp WondraRelease Manager & Test Master\, Siemens\n 				\n				\n				\n				\n							\n			\n						\n		\n						\n				\n				\n				\n					16.40 – 17.00 Uhr I  Anschließende Diskussion				\n				\n				\n				\n					\n	\n		\n\n				Insights: Post-Quantum Kryptografie	\n\n\n		\n	\n		Insights: Successful Approaches to Data Governance and Data Analytics			\n\n	\n\n				\n				\n					\n		\n					\n		\n				\n							\n							\n					\n			\n						\n				\n					\n	Insights: Risk Storming				\n				\n				\n						\n					\n			\n						\n				\n									\n					\n						\n									Anmeldung\n					\n					\n				\n								\n				\n				\n				\n							\n							\n					\n						Linkedin\n											\n				\n							\n					\n						Youtube\n											\n				\n					\n						\n				\n					\n		\n					\n		\n					\n		\n					\n		\n		\n					\n				\n				\n							\n			\n						\n		\n						\n				\n				\n				\n									orem ipsum dolor sit amet\, consectetur adipiscing elit. Ut elit tellus\, luctus nec ullamcorper mattis\, pulvinar dapibus leo.
URL:https://www.techl.eu/event/insights-risk-storming/
CATEGORIES:Software
END:VEVENT
END:VCALENDAR