BEGIN:VCALENDAR
VERSION:2.0
PRODID:-//Dev-Techl - ECPv6.15.20//NONSGML v1.0//EN
CALSCALE:GREGORIAN
METHOD:PUBLISH
X-WR-CALNAME:Dev-Techl
X-ORIGINAL-URL:https://www.techl.eu
X-WR-CALDESC:Events for Dev-Techl
REFRESH-INTERVAL;VALUE=DURATION:PT1H
X-Robots-Tag:noindex
X-PUBLISHED-TTL:PT1H
BEGIN:VTIMEZONE
TZID:Europe/Berlin
BEGIN:DAYLIGHT
TZOFFSETFROM:+0100
TZOFFSETTO:+0200
TZNAME:CEST
DTSTART:20210328T010000
END:DAYLIGHT
BEGIN:STANDARD
TZOFFSETFROM:+0200
TZOFFSETTO:+0100
TZNAME:CET
DTSTART:20211031T010000
END:STANDARD
BEGIN:DAYLIGHT
TZOFFSETFROM:+0100
TZOFFSETTO:+0200
TZNAME:CEST
DTSTART:20220327T010000
END:DAYLIGHT
BEGIN:STANDARD
TZOFFSETFROM:+0200
TZOFFSETTO:+0100
TZNAME:CET
DTSTART:20221030T010000
END:STANDARD
BEGIN:DAYLIGHT
TZOFFSETFROM:+0100
TZOFFSETTO:+0200
TZNAME:CEST
DTSTART:20230326T010000
END:DAYLIGHT
BEGIN:STANDARD
TZOFFSETFROM:+0200
TZOFFSETTO:+0100
TZNAME:CET
DTSTART:20231029T010000
END:STANDARD
BEGIN:DAYLIGHT
TZOFFSETFROM:+0100
TZOFFSETTO:+0200
TZNAME:CEST
DTSTART:20240331T010000
END:DAYLIGHT
BEGIN:STANDARD
TZOFFSETFROM:+0200
TZOFFSETTO:+0100
TZNAME:CET
DTSTART:20241027T010000
END:STANDARD
END:VTIMEZONE
BEGIN:VEVENT
DTSTART;TZID=Europe/Berlin:20230117T153000
DTEND;TZID=Europe/Berlin:20230117T173000
DTSTAMP:20260423T192726
CREATED:20221117T150700Z
LAST-MODIFIED:20221117T150700Z
UID:43092-1673969400-1673976600@www.techl.eu
SUMMARY:Insight: Nachhaltiges Wertpapiergeschäft
DESCRIPTION:Gastgeber: Jürgen Stahl\, GFFT/United Innovations\nOrt: Web-Session\nDatum und Uhrzeit: 17.01.2023 von 15:30 Uhr bis 17:30 Uhr \nNachhaltigkeit im Wertpapiergeschäft: Der nächste regulatorische Schritt zur Langfristigkeit und Transparenz im Wertpapiergeschäft und Reporting \n\nDurch die Berücksichtigung von Nachhaltigkeit in der Finanzberatung\, den Abbau kurzfristigen Denkens auf den Kapitalmärkten und eine nachhaltige Unternehmensführung kann die Finanzindustrie einen wichtigen Beitrag leisten. Hierzu sind die ESG-Faktoren in der Geschäftsstrategie zu verankern und Kunden mit einem Angebot an nachhaltigen Produkten und Services zu unterstützen.\nUm „Green Washing“ zu vermeiden\, die Transparenz zu erhöhen und einen fairen Wettbewerb zu gewährleisten\, hat die EU eine Reihe neuer Regularien auf den Weg gebracht und bestehende Regularien um nachhaltige Aspekte ergänzt. Dazu bedarf es innovativer Lösungen.\n\nEinwahldaten anfordern: Per E-Mail\nAgenda\n\n\n\n \n\n\n15:30 Uhr  \nBegrüßung & Vorstellungsrunde\n \nJürgen Stahl\, GFFT/United Innovations \nund \nAstrid Freier\, Head of Fintech\, PPI AG \n\n\n\n\n\n15:45 Uhr \n“Innovative Lösungsansätze im Wertpapiergeschäft”\n \nChristian Appel\, Partner bei PPI Consulting Banken\n \n\n\n\n  \n  \n  \n \n\n16:00 – 16:45 Uhr  \nPaneldiskussion mit Vertretern der Banken und Wissenschaftlern \n\n\n\n\n\n\n16:45 Uhr  \nDeutscher Startup-Pokal  \nKandidaten für den Fintech-Pokal: \nPitch 1  \nvorgestellt von Geschäftsführer \nPitch 2\n \nvorgestellt von Geschäftsführer \n\n\n\n\n\n17:25 – 17:30 Uhr \nHinweise\nJürgen Stahl\, GFFT/United Innovations
URL:https://www.techl.eu/event/insight-nachhaltiges-wertpapiergeschaeft-2/
CATEGORIES:Deutscher Startup-Pokal
END:VEVENT
BEGIN:VEVENT
DTSTART;TZID=Europe/Berlin:20221124T153000
DTEND;TZID=Europe/Berlin:20221124T173000
DTSTAMP:20260423T192726
CREATED:20221118T095533Z
LAST-MODIFIED:20221118T095533Z
UID:43094-1669303800-1669311000@www.techl.eu
SUMMARY:Insights OT-Security
DESCRIPTION:Die Absicherung der Industrieanlagen ist in vielen Unternehmen ein aktuelles und sehr komplexes Thema. Häufig sind die Unternehmensvertreter unsicher\, welcher Lösungsansatz in welcher Situation praktikabel ist und wodurch die größte Verbesserung erreicht werden kann. \nIn Kooperation mit NTT gibt das GFFT Security Lab Industrieunternehmen eine einfache Praxisunterstützung zur Absicherung der Anlagen an die Hand. Die Grundidee ist\, das Wissen über Herausforderungen\, Angriffsmuster und Lösungen bei allen Konsortialpartnern zu erfassen und auszutauschen und für die drängendsten Schwierigkeiten Lösungspfade zusammenzustellen. \nIn diesem offenen Treffen der Partner des Konsortialprojektes möchten wir die Sammlung praxistauglicher Lösungsansätze präsentieren. Hierbei wurde aus Ergebnissen individueller Workshops ein Maßnahmenkatalog abgeleitet\, mit dem Synergien bei den Verbesserungsvorschlägen genutzt werden können. Der Maßnahmenkatalog wird in aktualisierter Form den Partnern des Projektes zur Verfügung gestellt. \nInnerhalb der Startup-Corner können Sie bei unseren Terminen Startups aus dem jeweiligen Themenumfeld kennenlernen und ihnen Punkte vergeben. Die Startups mit dem meisten Punkten werden am Ende der Saison ins Finale des von der GFFT veranstalteten Deutschen Startup-Pokals einziehen. \n Agenda\n\n\n\n\n15.30 Uhr – 15.40 Uhr \nBegrüßung und Vorstellung der Teilnehmer:innen\n \nDr. Gerd Große\, GFFT e.V.\n\n\n\n\n15.40 Uhr – 16.00 Uhr \nFachliche Einführung und Zusammenfassung der Ergebnisse \nChristian Koch\, Vice President Cybersecurity – GRC & IoT/OT\, NTT Security GmbH \n\n\n\n16.00 Uhr – 16.20 Uhr \nAus der Praxis – ein Erfahrungsbericht & Diskussion \nRobin Häußler\, Security Manager fischerwerke GmbH & Co. KG\n\n\n\n\n16.20 Uhr – 16.40 Uhr \nAus der Praxis – ein Erfahrungsbericht & Diskussion \nDr. Martin Schneider\, Head of ITO Factory & Cloud Services\, BYK-Chemie GmbH \n\n\n\n16.40 Uhr – 17.00 Uhr \nBest Practice Vorstellung \nWill Stefan Roth\, Regional Sales Director\, DACH\, Nozomi Networks Inc .\n\n\n\n\n17.00 Uhr – 17.15 Uhr \nStartup-Corner des Deutschen Startup-Pokals: Pitch Startup\, Q&A \nJan Wendenburg\, CEO\, ONEKEY GmbH\n\n\n\n\n17.15 Uhr – 17.30 Uhr \nAbstimmung Startup\nNext Steps\nAbschlussworte\n\n\n\nAnmeldung über Eventbrite oder per E-Mail
URL:https://www.techl.eu/event/insights-ot-security/
CATEGORIES:Deutscher Startup-Pokal
END:VEVENT
BEGIN:VEVENT
DTSTART;TZID=Europe/Berlin:20221123T153000
DTEND;TZID=Europe/Berlin:20221123T173000
DTSTAMP:20260423T192726
CREATED:20220825T101702Z
LAST-MODIFIED:20220825T101702Z
UID:43083-1669217400-1669224600@www.techl.eu
SUMMARY:GFFT-Insights: Barrierefreiheit
DESCRIPTION:Am Beispiel der Lernsoftware Flowspark wird bei diesem Insights gezeigt\, wie die interne Trainingsplattform barrierefrei gestaltet wurde.  Beatriz González Mellídez und Markus Specker\, Accessibility-Experten von Atos\, berichten\, wie die Unternehmenspolitik das Ökosystem beeinflussen kann. \n\nInnerhalb der Startup-Corner können Sie bei unseren Terminen Startups aus dem jeweiligen Themenumfeld kennenlernen und ihnen Punkte vergeben. Die Startups mit dem meisten Punkten werden am Ende der Saison ins Finale des von der GFFT veranstalteten Deutschen Startup-Pokals einziehen. Bei diesem Insights pitcht Georg Miller mit seinem Vortrag „Sprechend Barrieren überwinden“. In der Jury sitzen Markus Lemcke\, Bea Gonzáles Mellídez und Jörg Sievers. \n\nGastgeber: Dr. Gerd Große (GFFT)\nOrt: Web-Session\nDatum und Uhrzeit: 23. November 2022 von 15:30 Uhr bis 17:30 Uhr \nEinwahldaten anfordern: Per E-Mail\nAgenda\n\n\n\n\n15:30 – 15:40 Uhr  \nBegrüßung & Vorstellungsrunde\nDr. Gerd Große\, GFFT\n\n\n\n15:40 – 15:50 Uhr  \nWie die Unternehmenspolitik das Ökosystem beeinflussen kann\nBeatriz González Mellídez\, Head of Accessibility & Digital Inclusion Central Europe (Atos) & Markus Specker\, Lead Accessibility & UX Test (Atos)\n\n\n \n\n15:50 – 16:30 Uhr   \nRetrofitting accessibility support into FLOWSPARKS : the journey\nFrank Verbinnen & Tiffany Backers\, beide  von CTO FLOWSPARKS\n\n\n\n16:30 – 17:00 Uhr \nBarrierefreie IT – Erfahrungen aus der Deutschen Rentenversicherung\nDirk Haas & Thorsten Schröder\, Die Deutsche Rentenversicherung Nord Ost West Informationstechnik GmbH\n\n\n\n \n\n17:00 – 17:20 Uhr \nStartup-Corner des Deutschen Startup-Pokals: Pitch Startup\, Q&A\n„Sprechend Barrieren überwinden“\nGeorg Miller\, Kenbun \nJury\nMarkus Lemcke\, Lehrbeauftragter digitale Barrierefreiheit\, Hochschule Furtwangen\nJörg Sievers\, Signal Iduna\nBeatriz González Mellídez\, Head of Accessibility & Digital Inclusion Central Europe\n\n\n\n17:20 – 17:30 Uhr\nAusblick auf das Konsortialprojekt zur Barrierefreiheit\nDr. Gerd Große\, GFFT
URL:https://www.techl.eu/event/gfft-insights-barrierefreiheit/
CATEGORIES:Deutscher Startup-Pokal
END:VEVENT
BEGIN:VEVENT
DTSTART;TZID=Europe/Berlin:20221108T153000
DTEND;TZID=Europe/Berlin:20221108T173000
DTSTAMP:20260423T192726
CREATED:20221026T140344Z
LAST-MODIFIED:20221026T140344Z
UID:43089-1667921400-1667928600@www.techl.eu
SUMMARY:Insight: ESG-Umsetzung bei Banken
DESCRIPTION:Gastgeber: Jürgen Stahl\, GFFT/United Innovations\nOrt: Web-Session\nSprache: Deutsch\nDatum und Uhrzeit: 8.11.2022 von 15:30 Uhr bis 17:30 Uhr \nDas Thema ESG ist für den Finanzsektor von immenser Wichtigkeit. Folgende Fragestellungen sind u.a. zu lösen: \nESG gesamthaft für die Bank aufbauen \n\nESG hat zahlreiche Aspekte\, die eine Bank im Blick haben muss. Beispielhaft seien Risikomessung und die Steuerung genannt. Im Fokus stehen aktuell v.a. Fragestellungen\, wie sich Kredite/ Portfolien grüner gestalten lassen. Das ist eine Facette\, die wir im Rahmen einer ganzheitlichen Betrachtung beleuchten wollen.\nTransparenz darüber\, wie stark eine Bank im ESG-Bereich aufgestellt ist\, lässt sich nur durch das Zusammenführen verschiedener Daten aus unterschiedlichen Datentöpfen erlangen. Daher beleuchten wir\, wie sich Banken um Daten holistisch organisieren können.\n\nHolistische Datenorganisation; Daten-Self-Services \n\nFür einen ganzheitlichen Blick auf Fragestellungen wir ESG oder andere finanzielle/ nicht-finanzielle Risiken ist ein übergreifendes Datenmanagement erforderlich. Wir betrachten mögliche Wege dorthin.\nDarüber hinaus ist die Einbindung von Kundendaten durch Kunden eine immer wichtiger werdende Komponente. Dazu erarbeiten wir Strategien\, wie Banken über geschickte Self-Services die für sie erforderlichen Kundendaten erlangen\n\n  \nEinwahldaten anfordern: Per E-Mail\nAgenda\n\n\n\n \n\n\n15:30 Uhr  \nBegrüßung & Moderation \n\nJürgen Stahl\, GFFT/United Innovations \nund \nAstrid Freier\, Head of Fintech\, PPI AG \n\n\n\n\n\n15:40 Uhr \n“Nachhaltigkeitsrisiken richtig einordnen – Pflicht oder Kür?” \nMario Sladek\, Head of Regulatory Services\, PPI AG \n\n\n\n  \n  \n  \n \n \n \n \n\n\n16:10 – 16:50 Uhr  \nPaneldiskussion mit Vertretern der Unternehmen\n \n  \n  \nDirk Kannacher\, Vorstand\, GLS Bank \n  \nHolger Lehnen\, Vorstandsstab & Abteilungsleiter Gremienmanagement\, Deutsche WertpapierService Bank AG \n  \nDr. Edeltraud Leibrock\, Managing Partner\, Group Vice President Financial Services DACH\, Publicis Sapient \n  \nKatarin Wagner\, Head of Corporate Sustainability\, HSBC Deutschland \n  \nInka Winter\, Chief Sustainability Officer\, Fürstlich Castell’sche Bank \n\n\n\n \n  \n \n\n\n16:50 Uhr  \nDeutscher Startup-Pokal  \nKandidaten für den Fintech-Pokal: \n  \nU Impact\n \nvorgestellt von Dr. Clemens Chaskel\, Co-Founder & CTO\n \n  \n  \nESG Screen17\n \nvorgestellt von Felix Schell\, Senior Client Executive (D-A-CH)\n \n\n\n\n\n\n17:30 Uhr \nHinweise\nJürgen Stahl\, GFFT/United Innovations
URL:https://www.techl.eu/event/insight-esg-umsetzung-bei-banken/
CATEGORIES:Deutscher Startup-Pokal
END:VEVENT
END:VCALENDAR