BEGIN:VCALENDAR
VERSION:2.0
PRODID:-//Dev-Techl - ECPv6.15.20//NONSGML v1.0//EN
CALSCALE:GREGORIAN
METHOD:PUBLISH
X-ORIGINAL-URL:https://www.techl.eu
X-WR-CALDESC:Events for Dev-Techl
REFRESH-INTERVAL;VALUE=DURATION:PT1H
X-Robots-Tag:noindex
X-PUBLISHED-TTL:PT1H
BEGIN:VTIMEZONE
TZID:Europe/Berlin
BEGIN:DAYLIGHT
TZOFFSETFROM:+0100
TZOFFSETTO:+0200
TZNAME:CEST
DTSTART:20240331T010000
END:DAYLIGHT
BEGIN:STANDARD
TZOFFSETFROM:+0200
TZOFFSETTO:+0100
TZNAME:CET
DTSTART:20241027T010000
END:STANDARD
BEGIN:DAYLIGHT
TZOFFSETFROM:+0100
TZOFFSETTO:+0200
TZNAME:CEST
DTSTART:20250330T010000
END:DAYLIGHT
BEGIN:STANDARD
TZOFFSETFROM:+0200
TZOFFSETTO:+0100
TZNAME:CET
DTSTART:20251026T010000
END:STANDARD
BEGIN:DAYLIGHT
TZOFFSETFROM:+0100
TZOFFSETTO:+0200
TZNAME:CEST
DTSTART:20260329T010000
END:DAYLIGHT
BEGIN:STANDARD
TZOFFSETFROM:+0200
TZOFFSETTO:+0100
TZNAME:CET
DTSTART:20261025T010000
END:STANDARD
END:VTIMEZONE
BEGIN:VEVENT
DTSTART;TZID=Europe/Berlin:20251120T153000
DTEND;TZID=Europe/Berlin:20251120T170000
DTSTAMP:20260424T020511
CREATED:20250319T082113Z
LAST-MODIFIED:20250319T082113Z
UID:43110-1763652600-1763658000@www.techl.eu
SUMMARY:Insights: KI-Potenziale 2026 im Banken- und Versicherungssektor
DESCRIPTION:Agenda\n					\n					\n				\n								\n				\n				\n				\n					\n	Insights: Themen- und Lösungslandkarte – Dos & Don’ts beim Testen der DORA-Regulatorik				\n				\n				\n				\n					\n	\n	Date & Time:	\n			28.04.2026\n\n	\n\n	  |  \n\n\n15:30\n\n		\n\n\n\n	\n	  -  \n\n17:00\n\n\n\n	\n				\n				\n				\n				\n									Online 								\n				\n					\n		\n					\n		\n					\n		\n					\n		\n				\n						\n					\n			\n						\n				\n					\n	Insights: Themen- und Lösungslandkarte – Dos & Don’ts beim Testen der DORA-Regulatorik				\n				\n				\n				\n									Bei diesem Treffen der Arbeitsgruppe DORA geht es um die Erfahrungen und den Umgang mit den beiden  Themen “Risikobasiertes Testen” und “Testarten”. Dazu findet am 22. Januar von 16-17.30 Uhr ein Vorgespräch statt\, zu dem neben allen Projektteilnehmern auch neue Interessierte herzlich eingeladen sind.  Anmeldung hierfür bitte per E-Mail an info@gfft-ev.de. Bei dem Termin am 11. Februar werden dann die beiden Gruppen “Risikobasiertes Testen” und “Testarten” parallel und unabhängig voneinander arbeiten. Die Ergebnisse werden im Miro-Board konsilidiert und dann beim nächsten Termin allen Teilnehmern vorgestellt. Online;  Datum und Uhrzeit: 								\n				\n				\n				\n					\n		\n			28.04.2026\n\n	\n\n	  |  \n\n\n15:30\n\n		\n\n\n\n	\n	  -  \n\n17:00\n\n\n\n	\n				\n				\n				\n						\n					\n			\n						\n				\n									\n					\n						\n									Anmeldung\n					\n					\n				\n								\n				\n					\n		\n				\n			\n						\n				\n									\n					\n						\n									Kontakt\n					\n					\n				\n								\n				\n					\n		\n				\n			\n						\n				\n					\n	\n		\n\n	\n	Add to calendar	\n		\n	\n\n		\n			\n									\n	Google Calendar\n\n									\n	iCalendar\n\n									\n	Outlook 365\n\n									\n	Outlook Live\n\n							\n		\n\n		\n	\n\n				\n				\n					\n		\n					\n		\n					\n		\n					\n		\n				\n						\n					\n			\n						\n				\n					Agenda				\n				\n				\n				\n							\n			\n						\n		\n						\n				\n				\n						\n					\n			\n						\n				\n					15:30 Uhr I Begrüßung und Zielsetzung 				\n				\n				\n				\n					Dr. Gerd GroßeVorstandsvorsitzender GFFT e.V.\, Head of United Innovations 				\n				\n					\n		\n					\n		\n				\n				\n							\n			\n						\n		\n						\n				\n				\n						\n					\n			\n						\n				\n					15:40 Uhr I Schwerpunkt "Risikobasiertes Testen" und "Testarten"				\n				\n					\n		\n					\n		\n				\n						\n					\n			\n						\n				\n					Thanh-Mai LeSixsentix 				\n				\n					\n		\n					\n		\n				\n				\n							\n			\n						\n		\n						\n				\n				\n				\n					Axel ZieglerKfW 				\n				\n				\n				\n					16:00 Uhr I  Updates zur aktuellen Entwicklung\n				\n				\n				\n				\n					16:20 Uhr I  Ausblick auf die nächste Phase				\n				\n				\n				\n					16:40 Uhr I  Diskussion und Networking\n				\n				\n				\n				\n							\n			\n						\n		\n						\n				\n				\n				\n					\n	\n		\n\n				Enterprise Data: Diskussion der Datengrundlage für die neue Agent-Welt	\n\n\n		\n	\n		Insights: Operational Excellence im Supply Chain Management			\n\n	\n\n				\n				\n					\n		\n					\n		\n				\n							\n							\n					\n			\n						\n				\n					\n	Insights: Themen- und Lösungslandkarte – Dos & Don’ts beim Testen der DORA-Regulatorik				\n				\n				\n						\n					\n			\n						\n				\n									\n					\n						\n									Anmeldung\n					\n					\n				\n								\n				\n				\n				\n							\n							\n					\n						Linkedin\n											\n				\n							\n					\n						Youtube
URL:https://www.techl.eu/event/insights-ki-potenziale-2026-im-banken-und-versicherungssektor/
CATEGORIES:Software
END:VEVENT
BEGIN:VEVENT
DTSTART;TZID=Europe/Berlin:20251121T140000
DTEND;TZID=Europe/Berlin:20251121T153000
DTSTAMP:20260424T020511
CREATED:20251023T084204Z
LAST-MODIFIED:20251023T084204Z
UID:43131-1763733600-1763739000@www.techl.eu
SUMMARY:Projekt DORA-Landkarte
DESCRIPTION:Agenda\n					\n					\n				\n								\n				\n				\n				\n					\n	Insights: Themen- und Lösungslandkarte – Dos & Don’ts beim Testen der DORA-Regulatorik				\n				\n				\n				\n					\n	\n	Date & Time:	\n			28.04.2026\n\n	\n\n	  |  \n\n\n15:30\n\n		\n\n\n\n	\n	  -  \n\n17:00\n\n\n\n	\n				\n				\n				\n				\n									Online 								\n				\n					\n		\n					\n		\n					\n		\n					\n		\n				\n						\n					\n			\n						\n				\n					\n	Insights: Themen- und Lösungslandkarte – Dos & Don’ts beim Testen der DORA-Regulatorik				\n				\n				\n				\n									Bei diesem Treffen der Arbeitsgruppe DORA geht es um die Erfahrungen und den Umgang mit den beiden  Themen “Risikobasiertes Testen” und “Testarten”. Dazu findet am 22. Januar von 16-17.30 Uhr ein Vorgespräch statt\, zu dem neben allen Projektteilnehmern auch neue Interessierte herzlich eingeladen sind.  Anmeldung hierfür bitte per E-Mail an info@gfft-ev.de. Bei dem Termin am 11. Februar werden dann die beiden Gruppen “Risikobasiertes Testen” und “Testarten” parallel und unabhängig voneinander arbeiten. Die Ergebnisse werden im Miro-Board konsilidiert und dann beim nächsten Termin allen Teilnehmern vorgestellt. Online;  Datum und Uhrzeit: 								\n				\n				\n				\n					\n		\n			28.04.2026\n\n	\n\n	  |  \n\n\n15:30\n\n		\n\n\n\n	\n	  -  \n\n17:00\n\n\n\n	\n				\n				\n				\n						\n					\n			\n						\n				\n									\n					\n						\n									Anmeldung\n					\n					\n				\n								\n				\n					\n		\n				\n			\n						\n				\n									\n					\n						\n									Kontakt\n					\n					\n				\n								\n				\n					\n		\n				\n			\n						\n				\n					\n	\n		\n\n	\n	Add to calendar	\n		\n	\n\n		\n			\n									\n	Google Calendar\n\n									\n	iCalendar\n\n									\n	Outlook 365\n\n									\n	Outlook Live\n\n							\n		\n\n		\n	\n\n				\n				\n					\n		\n					\n		\n					\n		\n					\n		\n				\n						\n					\n			\n						\n				\n					Agenda				\n				\n				\n				\n							\n			\n						\n		\n						\n				\n				\n						\n					\n			\n						\n				\n					15:30 Uhr I Begrüßung und Zielsetzung 				\n				\n				\n				\n					Dr. Gerd GroßeVorstandsvorsitzender GFFT e.V.\, Head of United Innovations 				\n				\n					\n		\n					\n		\n				\n				\n							\n			\n						\n		\n						\n				\n				\n						\n					\n			\n						\n				\n					15:40 Uhr I Schwerpunkt "Risikobasiertes Testen" und "Testarten"				\n				\n					\n		\n					\n		\n				\n						\n					\n			\n						\n				\n					Thanh-Mai LeSixsentix 				\n				\n					\n		\n					\n		\n				\n				\n							\n			\n						\n		\n						\n				\n				\n				\n					Axel ZieglerKfW 				\n				\n				\n				\n					16:00 Uhr I  Updates zur aktuellen Entwicklung\n				\n				\n				\n				\n					16:20 Uhr I  Ausblick auf die nächste Phase				\n				\n				\n				\n					16:40 Uhr I  Diskussion und Networking\n				\n				\n				\n				\n							\n			\n						\n		\n						\n				\n				\n				\n					\n	\n		\n\n				Enterprise Data: Diskussion der Datengrundlage für die neue Agent-Welt	\n\n\n		\n	\n		Insights: Operational Excellence im Supply Chain Management			\n\n	\n\n				\n				\n					\n		\n					\n		\n				\n							\n							\n					\n			\n						\n				\n					\n	Insights: Themen- und Lösungslandkarte – Dos & Don’ts beim Testen der DORA-Regulatorik				\n				\n				\n						\n					\n			\n						\n				\n									\n					\n						\n									Anmeldung\n					\n					\n				\n								\n				\n				\n				\n							\n							\n					\n						Linkedin\n											\n				\n							\n					\n						Youtube
URL:https://www.techl.eu/event/projekt-dora-landkarte/
CATEGORIES:Software
END:VEVENT
BEGIN:VEVENT
DTSTART;TZID=Europe/Berlin:20251125T153000
DTEND;TZID=Europe/Berlin:20251125T170000
DTSTAMP:20260424T020511
CREATED:20250403T112522Z
LAST-MODIFIED:20250403T112522Z
UID:43118-1764084600-1764090000@www.techl.eu
SUMMARY:Insights: Target Pictures in Enterprise Architecture Management
DESCRIPTION:Agenda\n					\n					\n				\n								\n				\n				\n				\n					\n	Insights: Themen- und Lösungslandkarte – Dos & Don’ts beim Testen der DORA-Regulatorik				\n				\n				\n				\n					\n	\n	Date & Time:	\n			28.04.2026\n\n	\n\n	  |  \n\n\n15:30\n\n		\n\n\n\n	\n	  -  \n\n17:00\n\n\n\n	\n				\n				\n				\n				\n									Online 								\n				\n					\n		\n					\n		\n					\n		\n					\n		\n				\n						\n					\n			\n						\n				\n					\n	Insights: Themen- und Lösungslandkarte – Dos & Don’ts beim Testen der DORA-Regulatorik				\n				\n				\n				\n									Bei diesem Treffen der Arbeitsgruppe DORA geht es um die Erfahrungen und den Umgang mit den beiden  Themen “Risikobasiertes Testen” und “Testarten”. Dazu findet am 22. Januar von 16-17.30 Uhr ein Vorgespräch statt\, zu dem neben allen Projektteilnehmern auch neue Interessierte herzlich eingeladen sind.  Anmeldung hierfür bitte per E-Mail an info@gfft-ev.de. Bei dem Termin am 11. Februar werden dann die beiden Gruppen “Risikobasiertes Testen” und “Testarten” parallel und unabhängig voneinander arbeiten. Die Ergebnisse werden im Miro-Board konsilidiert und dann beim nächsten Termin allen Teilnehmern vorgestellt. Online;  Datum und Uhrzeit: 								\n				\n				\n				\n					\n		\n			28.04.2026\n\n	\n\n	  |  \n\n\n15:30\n\n		\n\n\n\n	\n	  -  \n\n17:00\n\n\n\n	\n				\n				\n				\n						\n					\n			\n						\n				\n									\n					\n						\n									Anmeldung\n					\n					\n				\n								\n				\n					\n		\n				\n			\n						\n				\n									\n					\n						\n									Kontakt\n					\n					\n				\n								\n				\n					\n		\n				\n			\n						\n				\n					\n	\n		\n\n	\n	Add to calendar	\n		\n	\n\n		\n			\n									\n	Google Calendar\n\n									\n	iCalendar\n\n									\n	Outlook 365\n\n									\n	Outlook Live\n\n							\n		\n\n		\n	\n\n				\n				\n					\n		\n					\n		\n					\n		\n					\n		\n				\n						\n					\n			\n						\n				\n					Agenda				\n				\n				\n				\n							\n			\n						\n		\n						\n				\n				\n						\n					\n			\n						\n				\n					15:30 Uhr I Begrüßung und Zielsetzung 				\n				\n				\n				\n					Dr. Gerd GroßeVorstandsvorsitzender GFFT e.V.\, Head of United Innovations 				\n				\n					\n		\n					\n		\n				\n				\n							\n			\n						\n		\n						\n				\n				\n						\n					\n			\n						\n				\n					15:40 Uhr I Schwerpunkt "Risikobasiertes Testen" und "Testarten"				\n				\n					\n		\n					\n		\n				\n						\n					\n			\n						\n				\n					Thanh-Mai LeSixsentix 				\n				\n					\n		\n					\n		\n				\n				\n							\n			\n						\n		\n						\n				\n				\n				\n					Axel ZieglerKfW 				\n				\n				\n				\n					16:00 Uhr I  Updates zur aktuellen Entwicklung\n				\n				\n				\n				\n					16:20 Uhr I  Ausblick auf die nächste Phase				\n				\n				\n				\n					16:40 Uhr I  Diskussion und Networking\n				\n				\n				\n				\n							\n			\n						\n		\n						\n				\n				\n				\n					\n	\n		\n\n				Enterprise Data: Diskussion der Datengrundlage für die neue Agent-Welt	\n\n\n		\n	\n		Insights: Operational Excellence im Supply Chain Management			\n\n	\n\n				\n				\n					\n		\n					\n		\n				\n							\n							\n					\n			\n						\n				\n					\n	Insights: Themen- und Lösungslandkarte – Dos & Don’ts beim Testen der DORA-Regulatorik				\n				\n				\n						\n					\n			\n						\n				\n									\n					\n						\n									Anmeldung\n					\n					\n				\n								\n				\n				\n				\n							\n							\n					\n						Linkedin\n											\n				\n							\n					\n						Youtube
URL:https://www.techl.eu/event/insights-target-pictures-in-enterprise-architecture-management/
CATEGORIES:Software
END:VEVENT
BEGIN:VEVENT
DTSTART;TZID=Europe/Berlin:20251126T153000
DTEND;TZID=Europe/Berlin:20251126T170000
DTSTAMP:20260424T020511
CREATED:20251023T073802Z
LAST-MODIFIED:20251023T073802Z
UID:43130-1764171000-1764176400@www.techl.eu
SUMMARY:Erfahrung trifft auf Visionen: Innovation Board trifft auf Gründer
DESCRIPTION:Agenda\n					\n					\n				\n								\n				\n				\n				\n					\n	Insights: Themen- und Lösungslandkarte – Dos & Don’ts beim Testen der DORA-Regulatorik				\n				\n				\n				\n					\n	\n	Date & Time:	\n			28.04.2026\n\n	\n\n	  |  \n\n\n15:30\n\n		\n\n\n\n	\n	  -  \n\n17:00\n\n\n\n	\n				\n				\n				\n				\n									Online 								\n				\n					\n		\n					\n		\n					\n		\n					\n		\n				\n						\n					\n			\n						\n				\n					\n	Insights: Themen- und Lösungslandkarte – Dos & Don’ts beim Testen der DORA-Regulatorik				\n				\n				\n				\n									Bei diesem Treffen der Arbeitsgruppe DORA geht es um die Erfahrungen und den Umgang mit den beiden  Themen “Risikobasiertes Testen” und “Testarten”. Dazu findet am 22. Januar von 16-17.30 Uhr ein Vorgespräch statt\, zu dem neben allen Projektteilnehmern auch neue Interessierte herzlich eingeladen sind.  Anmeldung hierfür bitte per E-Mail an info@gfft-ev.de. Bei dem Termin am 11. Februar werden dann die beiden Gruppen “Risikobasiertes Testen” und “Testarten” parallel und unabhängig voneinander arbeiten. Die Ergebnisse werden im Miro-Board konsilidiert und dann beim nächsten Termin allen Teilnehmern vorgestellt. Online;  Datum und Uhrzeit: 								\n				\n				\n				\n					\n		\n			28.04.2026\n\n	\n\n	  |  \n\n\n15:30\n\n		\n\n\n\n	\n	  -  \n\n17:00\n\n\n\n	\n				\n				\n				\n						\n					\n			\n						\n				\n									\n					\n						\n									Anmeldung\n					\n					\n				\n								\n				\n					\n		\n				\n			\n						\n				\n									\n					\n						\n									Kontakt\n					\n					\n				\n								\n				\n					\n		\n				\n			\n						\n				\n					\n	\n		\n\n	\n	Add to calendar	\n		\n	\n\n		\n			\n									\n	Google Calendar\n\n									\n	iCalendar\n\n									\n	Outlook 365\n\n									\n	Outlook Live\n\n							\n		\n\n		\n	\n\n				\n				\n					\n		\n					\n		\n					\n		\n					\n		\n				\n						\n					\n			\n						\n				\n					Agenda				\n				\n				\n				\n							\n			\n						\n		\n						\n				\n				\n						\n					\n			\n						\n				\n					15:30 Uhr I Begrüßung und Zielsetzung 				\n				\n				\n				\n					Dr. Gerd GroßeVorstandsvorsitzender GFFT e.V.\, Head of United Innovations 				\n				\n					\n		\n					\n		\n				\n				\n							\n			\n						\n		\n						\n				\n				\n						\n					\n			\n						\n				\n					15:40 Uhr I Schwerpunkt "Risikobasiertes Testen" und "Testarten"				\n				\n					\n		\n					\n		\n				\n						\n					\n			\n						\n				\n					Thanh-Mai LeSixsentix 				\n				\n					\n		\n					\n		\n				\n				\n							\n			\n						\n		\n						\n				\n				\n				\n					Axel ZieglerKfW 				\n				\n				\n				\n					16:00 Uhr I  Updates zur aktuellen Entwicklung\n				\n				\n				\n				\n					16:20 Uhr I  Ausblick auf die nächste Phase				\n				\n				\n				\n					16:40 Uhr I  Diskussion und Networking\n				\n				\n				\n				\n							\n			\n						\n		\n						\n				\n				\n				\n					\n	\n		\n\n				Enterprise Data: Diskussion der Datengrundlage für die neue Agent-Welt	\n\n\n		\n	\n		Insights: Operational Excellence im Supply Chain Management			\n\n	\n\n				\n				\n					\n		\n					\n		\n				\n							\n							\n					\n			\n						\n				\n					\n	Insights: Themen- und Lösungslandkarte – Dos & Don’ts beim Testen der DORA-Regulatorik				\n				\n				\n						\n					\n			\n						\n				\n									\n					\n						\n									Anmeldung\n					\n					\n				\n								\n				\n				\n				\n							\n							\n					\n						Linkedin\n											\n				\n							\n					\n						Youtube
URL:https://www.techl.eu/event/meeting-des-innovation-board-softwartest/
CATEGORIES:Software
END:VEVENT
END:VCALENDAR